BEGIN:VCALENDAR
VERSION:2.0
CALSCALE:GREGORIAN
PRODID:-//MyApp//Calendar 1.0//EN
BEGIN:VEVENT
METHOD:PUBLISH
UID:58607@regionalniportaly.cz
DTSTAMP:20260424T145742Z
DTSTART;VALUE=DATE:20251031
DTEND;VALUE=DATE:20251101
SUMMARY:Nepela | Kyjograf
DESCRIPTION:Projekce s delegacíDrama\, Životopisný | Slovensko\, Česko | 100 minut | 2D | slovensky | nevhodné pro nezletilé osoby do 12 letRežie: Gregor ValentovičHrají: Josef Trojan\, Zuzana Mauréry\, Tereza Smetanová\, Adrian Jastraban\, Milan Mikulčík\, Antonie Formanová ad.&nbsp\;&nbsp\;Film mapuje úsek ze života krasobruslaře Ondreje Nepely\, kdy se v roce 1972 vrací se zlatou medailí ze Zimních olympijských her v Sapporu\, kde dosáhl svého největšího sportovního úspěchu. Doma na něj čeká nejen sláva\, ale také realita komunistického režimu. Všichni se k němu chovají jako k celebritě\, ale citlivý Ondrej touží především po úniku z této pro něj nepříjemné zlaté klece. Chce žít svobodně a v souladu s tím\, kým se cítí být. Přislíbenou šanci odejít do profesionální lední revue mu však na poslední chvíli zakáží a nařídí mu účast na dalším mistrovství světa. Zklamaný Nepela musí najít novou motivaci a také se vyrovnat s tragickou smrtí své nejlepší kamarádky\, krasobruslařky Hany Maškové.&nbsp\;Kde: Kino PanoramaVstupné: 150 Kč / 130 Kč ZTP/P a studentiwww.kyjograf.cz
LOCATION:Kyjov
END:VEVENT
END:VCALENDAR