BEGIN:VCALENDAR
VERSION:2.0
CALSCALE:GREGORIAN
PRODID:-//MyApp//Calendar 1.0//EN
BEGIN:VEVENT
METHOD:PUBLISH
UID:58611@regionalniportaly.cz
DTSTAMP:20260424T131549Z
DTSTART;VALUE=DATE:20251101
DTEND;VALUE=DATE:20251102
SUMMARY:Letní škola\, 2001 | Kyjograf
DESCRIPTION:Drama | Česko | 102 minut | 2D | česky | nevhodné pro nezletilé osoby do 12 letRežie: Dužan DuongHrají: Anh Doan Hoang\, The Duong Bui\, Tien Tai To\, Le Quỳnh Lan\, Dung Nguyen\, Xuan Ngo Thang\, Xuan Tiem To\, Thi Pham Nhung\, Jana Vaculíková\, Duc Quan NguyenPO PROJEKCI NÁSLEDUJE BESEDA S&nbsp\;REŽISÉREM DUŽANEM DUONGEM A SCENÁRISTOU A PRODUCENTEM LUKÁŠEM KOKEŠEM&nbsp\;Léto 2001. Sedmnáctiletý Kien se zářivě červeným účesem se po deseti letech ve Vietnamu vrací k rodině do tržnice v Chebu. Místo vřelého přivítání ho čeká odcizený otec\, ustaraná matka a mladší bratr\, který mu nic nedaruje. Mezi nažehlováním pokémonů na trička\, drilováním češtiny a randěním u jezera vyplouvá na povrch tajemství\, jehož odhalení převrátí život tržnice vzhůru nohama...S lehkostí a vtipem vyprávěný snímek režiséra Dužana Duonga přináší autentický pohled do komunity očima první vietnamské generace\, která v Čechách vyrostla.&nbsp\;"Zajímavé koukat na film\, který je český a přitom rozhodně není typicky český tím\, jak je natočen a vyprávěn.""Jestli je nějaký český film\, který byste měli letos vidět v kině\, je to Letní škola\, 2001."&nbsp\;Kde: Kino PanoramaVstupné: 150 Kč / 130 Kč ZTP/P a studentiwww.kyjograf.cz
LOCATION:Kyjov
END:VEVENT
END:VCALENDAR