BEGIN:VCALENDAR
VERSION:2.0
CALSCALE:GREGORIAN
PRODID:-//MyApp//Calendar 1.0//EN
BEGIN:VEVENT
METHOD:PUBLISH
UID:58613@regionalniportaly.cz
DTSTAMP:20260422T035653Z
DTSTART;VALUE=DATE:20251101
DTEND;VALUE=DATE:20251102
SUMMARY:Kámen osudu & pásmo UMPRUM | Kyjograf
DESCRIPTION:Pásmo\, Animovaný | Česko | 47 minut | 2D | česky | přístupné&nbsp\;PO PROJEKCI NÁSLEDUJE BESEDA S&nbsp\;REŽISÉRKOU A ANIMÁTORKOU JULIÍ ČERNOU A VEDOUCÍ ATELIÉRU ANIMACE A FILMU UMPRUM MICHAELOU REŽOVOUSvérázný a zábavný animovaný muzikál režisérky a animátorky Julie Černé Kámen Osudu sleduje osudy hlavního protagonisty\, kamene s lidskými končetinami. Na cestě plné tajuplných a fantastických setkání a skrytých symbolů jej pohání touha po svobodě…Kámen Osudu uvedeme v rámci pestrého pásma\, v němž se představí také devět dalších čerstvých studentských animovaných snímků. Všechny vznikly v průběhu letošního roku v ateliéru Animace a film na Vysoké škole uměleckoprůmyslové (UMPRUM)\, jehož tvorba je dlouhodobě charakteristická svou svérázností\, odvahou hledat nové formy a schopností překvapovat originální imaginací. Ateliér je známý tím\, že studenty vede k experimentu\, hravosti i k osobnímu autorskému rukopisu\, a právě tato rozmanitost se odráží v celé kolekci filmů. Pásmo je jedinečnou přehlídkou rozličných animačních přístupů\, od humorných obrazů až po psychedelicky fantazijní výjevy.&nbsp\;Kde: Kino PanoramaVstupné: 100 Kč / 80 Kč ZTP/P a studentiwww.kyjograf.cz
LOCATION:Kyjov
END:VEVENT
END:VCALENDAR