BEGIN:VCALENDAR
VERSION:2.0
CALSCALE:GREGORIAN
PRODID:-//MyApp//Calendar 1.0//EN
BEGIN:VEVENT
METHOD:PUBLISH
UID:58615@regionalniportaly.cz
DTSTAMP:20260422T075253Z
DTSTART;VALUE=DATE:20251102
DTEND;VALUE=DATE:20251103
SUMMARY:Franz | Kyjograf
DESCRIPTION:Drama\, Psychologický | Česko\, Německo\, Polsko\, Francie | 127 minut | 2D | titulky | nevhodné pro nezletilé osoby do 15 letRežie: Agnieszka HollandHrají: Idan Weiss\, Jenovéfa Boková\, Ivan Trojan\, Josef Trojan\, Vladimír Javorský\, Karel Dobrý\, Stanislav Majer\, Juraj Loj\, Ondřej Malý\, Anita Krausová\, Emma SmetanaPO PROJEKCI NÁSLEDUJE BESEDA SE SCENÁRISTOU MARKEM EPSTEINEM A DRAMATURGEM JAROSLAVEM SEDLÁČKEM&nbsp\;Působivý příběh inspirovaný životem\, dílem a fantazií spisovatele Franze Kafky\, který dokázal fascinujícím způsobem předběhnout svou dobu. Vegetarián\, workoholik\, introvert\, outsider\, milenec v dopisech a úředník v noční můře. Film Franz je plný fantazie\, humoru\, bolesti\, a vnitřního světa muže\, který ve svých knihách definoval moderní existenciální úzkosti\, a i sto let po své smrti zůstává zrcadlem našich nejhlubších strachů a tužeb.&nbsp\;Režisérka Agnieszka Holland skládá kaleidoskop událostí z fragmentů\, snů\, dopisů a dochovaných příběhů. Vzniká tak smyslově intenzivní portrét muže\, který nikdy nepřestal hledat sám sebe – a právě tím se dotkl něčeho podstatného v nás všech. Snímek začíná Kafkovým dětstvím v Praze a sleduje jeho život až do smrti v Rakousku po první světové válce. Od vztahu s autoritativním otcem přes pevné přátelství s Maxem Brodem až po komplikované milostné osudy s Felicií Bauerovou a Milenou Jesenskou\, vzniká bohatá\, emotivní\, často ironická\, místy až groteskní freska člověka\, který v touze po „obyčejném“ životě dokázal napsat ta nejneobyčejnější díla.www.kyjograf.cz
LOCATION:Kyjov
END:VEVENT
END:VCALENDAR