BEGIN:VCALENDAR
VERSION:2.0
CALSCALE:GREGORIAN
PRODID:-//MyApp//Calendar 1.0//EN
BEGIN:VEVENT
METHOD:PUBLISH
UID:59017@regionalniportaly.cz
DTSTAMP:20260422T015615Z
DTSTART;VALUE=DATE:20251116
DTEND;VALUE=DATE:20251117
SUMMARY:Jazz
DESCRIPTION:Tradiční jazzování v Ratíškovicích&nbsp\;16.11.2025 - neděle - 19:30 hodin\, Spolkový dům Ratíškovice&nbsp\;Vystoupí:Lee Andrew Davison - zpěv (tentokrát to budou převážně skladby Ray Charlese)Luděk Havel - piano\,&nbsp\;basseto&nbsp\;Zdeněk Fišer - kytary (dlouholetý člen doprovodné kapely Hany Hegerové)Baratha Rajnošek - tenor.sax\, trumpeta\, flétna (člen mnoha významných jazzových seskupení)Jaromír Helešic - bicí nástroje (60 let na scéně)&nbsp\;&nbsp\;&nbsp\;
LOCATION:Ratíškovice
END:VEVENT
END:VCALENDAR