BEGIN:VCALENDAR
VERSION:2.0
CALSCALE:GREGORIAN
PRODID:-//MyApp//Calendar 1.0//EN
BEGIN:VEVENT
METHOD:PUBLISH
UID:59563@regionalniportaly.cz
DTSTAMP:20260422T015605Z
DTSTART;VALUE=DATE:20251115
DTEND;VALUE=DATE:20260111
SUMMARY:Poznala duše anděla
DESCRIPTION:Vlastivědné muzeum v Kyjově pro vás v adventním a vánočním čase připravilo výstavu s názvem „Poznala duše anděla“. Vernisáž výstavy se bude konat v sobotu 15. 11. 2025 v 15.00 za účasti kyjovského děkana Pavla Stušky\, který výstavě požehná\, a za doprovodu farního sboru ze Bzence\, jenž si pro tuto příležitost připravil tři skladby s andělskou tematikou.
LOCATION:Kyjov
END:VEVENT
END:VCALENDAR