BEGIN:VCALENDAR
VERSION:2.0
CALSCALE:GREGORIAN
PRODID:-//MyApp//Calendar 1.0//EN
BEGIN:VEVENT
METHOD:PUBLISH
UID:61270@regionalniportaly.cz
DTSTAMP:20260422T075556Z
DTSTART;VALUE=DATE:20260125
DTEND;VALUE=DATE:20260126
SUMMARY:Dětský karneval - MKS Kyjov
DESCRIPTION:&nbsp\;DĚTSKÝ KARNEVAL V KYJOVĚZveme všechny rytíře\, princezny\, superhrdiny\, strašidla i další pohádkové bytosti ze všech koutů světa na DĚTSKÝ KARNEVAL v Kyjově!Čeká vás odpoledne plné zábavy\, tance a kouzelné atmosféry pro celou rodinu.&nbsp\;Na co se můžete těšit?Pohádkové postavičky v životních velikostech.Animační disco program pro děti i rodiče.Malování na obličej.Velká TOMBOLA .Soutěže o pohádkové ceny.Výrobníky bublin.&nbsp\;V kolik? Od 15:00 (KD bude otevřen pro veřejnost již od 14:00)&nbsp\;Přijďte v maskách a užijte si nezapomenutelné karnevalové odpoledne!Těšíme se na vás!
LOCATION:Kyjov
END:VEVENT
END:VCALENDAR