BEGIN:VCALENDAR
VERSION:2.0
CALSCALE:GREGORIAN
PRODID:-//MyApp//Calendar 1.0//EN
BEGIN:VEVENT
METHOD:PUBLISH
UID:61424@regionalniportaly.cz
DTSTAMP:20260424T131700Z
DTSTART;VALUE=DATE:20260123
DTEND;VALUE=DATE:20260125
SUMMARY:Kurzy Péče o tradiční lidový oděv Kyjovska
DESCRIPTION:Ve Vlastivědném muzeu Kyjov budete mít opět příležitost seznámit se s bohatou tradicí a péčí o lidové oděvy Kyjovska! Přijďte na kurzy\, kde se naučíte\, jak správně pečovat\, opravovat a udržovat tyto cenné kousky našeho kulturního dědictví. Pod vedením odborníků si můžete vyzkoušet různé techniky a seznámit se s tradičními výšivkami a materiály regionu.📍 Kurzy se uskuteční od 23. – 25. ledna 2026 v Kyjově. Pokud máte zájem o tradiční lidovou kulturu a chcete se dozvědět\, jak správně pečovat o tyto hodnotné kousky naší historie\, neváhejte a přihlaste se! 📍Co vás čeká? ⁠⁠⁠⁠⁠⁠• Praktické ukázky opravy a údržby tradičních oděvů. ⁠⁠⁠⁠⁠⁠• Seznámení se s materiály\, výšivkami a technikami\, které jsou charakteristické pro kyjovskou oblast. ⁠⁠⁠⁠⁠⁠• Možnost pracovat pod vedením odborníků na lidový oděv.
LOCATION:Kyjov
END:VEVENT
END:VCALENDAR