BEGIN:VCALENDAR
VERSION:2.0
CALSCALE:GREGORIAN
PRODID:-//MyApp//Calendar 1.0//EN
BEGIN:VEVENT
METHOD:PUBLISH
UID:61464@regionalniportaly.cz
DTSTAMP:20260422T015555Z
DTSTART;VALUE=DATE:20260124
DTEND;VALUE=DATE:20260125
SUMMARY:Zimní Metla Fest 3.
DESCRIPTION:Zimní fest na kterém vysoupí:!VVÚGlejtBarricadeThe SnubSkorup/aFatality
LOCATION:Svatobořice-Mistřín
END:VEVENT
END:VCALENDAR