BEGIN:VCALENDAR
VERSION:2.0
CALSCALE:GREGORIAN
PRODID:-//MyApp//Calendar 1.0//EN
BEGIN:VEVENT
METHOD:PUBLISH
UID:61640@regionalniportaly.cz
DTSTAMP:20260422T015635Z
DTSTART;VALUE=DATE:20260120
DTEND;VALUE=DATE:20260224
SUMMARY:Kurz šití Kordulky
DESCRIPTION:Vlastivědné muzeum Kyjov srdečně zve v rámci cyklu kurzů Péče o tradiční lidový oděv Kyjovska na kurz KORDULKY - Kurz šití a vyšívání dívčích kyjovských kordulek s lektorkou Petrou Lebedovou. Kurz proběhne ve dnech 20. a 27. ledna a 3.\, 10. a 24. února 2026. 📌Aktualizace 15. 12.: KURZ JE JIŽ VYPRODÁN‼
LOCATION:Kyjov
END:VEVENT
END:VCALENDAR