BEGIN:VCALENDAR
VERSION:2.0
CALSCALE:GREGORIAN
PRODID:-//MyApp//Calendar 1.0//EN
BEGIN:VEVENT
METHOD:PUBLISH
UID:61894@regionalniportaly.cz
DTSTAMP:20260422T015535Z
DTSTART;VALUE=DATE:20260314
DTEND;VALUE=DATE:20260315
SUMMARY:Retro Lovers
DESCRIPTION:Dovolte\, abychom Vás pozvali na nejoriginálnější párty ve stylu 80. a 90. let\, která tu kdy byla!&nbsp\;Připravili jsme pro vás akce plné nostalgie\, zážitků\, skvělé hudby a zábavy! ✨️Na akci na Vás čeká nadupaný program\, obrovské množství retro dekorací\, retro tanečnice\, Stylový fotokoutek\, tematické drinky na barech a spousta zážitků! Přicházíme s akcí\, která tu ještě nebyla!&nbsp\;DJ TOMMY▪️ Po celý večer pouze hity z 80. a 90. let▪️ Vstup pouze pro ostřílené matadory 20 + (PS. Akce je stvořena hlavně především pro ty\, kteří tuto dobu zažili a nebo se v ní narodili)▪️ Personál v retro stylu&nbsp\;▪️ Retro tanečnice na pódiu 👯‍♂️▪️ Retro animátoři v životních velikostech▪️ Stylový retro fotokoutek▪️ Budeme hrát samé vypalovačy rok 2000 a starší 🎶▪️Tematické drinky na bar▪️ Velkolepá stage přeměněná na retro scénu s retro TV projekcí (exkluzivní v ČR)▪️ OBROVSKÉ množství dekorací 📻 Ždánice Kulturní dům Startujeme ve 20:00&nbsp\; 🎟 VSTUPENKY: V Předprodeji: 250Kč/ osoba Na místě: 250 Kč/ osoba▪️ POUZE PRO 20 + Těšíme se na perfektní zážitek Vaše Retro Lovers! ❤️
LOCATION:Ždánice
END:VEVENT
END:VCALENDAR