BEGIN:VCALENDAR
VERSION:2.0
CALSCALE:GREGORIAN
PRODID:-//MyApp//Calendar 1.0//EN
BEGIN:VEVENT
METHOD:PUBLISH
UID:63779@regionalniportaly.cz
DTSTAMP:20260419T143538Z
DTSTART;VALUE=DATE:20260516
DTEND;VALUE=DATE:20260517
SUMMARY:Jarní otvírání sklepů v Šardicích
DESCRIPTION:Další ročník vinařské akce\, která navazuje na tradiční letní otevřené sklepy a umožní návštěvu nejen těm milovníkům vína\, jimž letní termín nevyhovuje\, ale i všem ostatním\, kteří mají rádi dobrá moravská vína. Pouze v předprodeji možnost nakoupit vstupenku 1+1 za zvýhodněnou cenu.&nbsp\;
LOCATION:Šardice
END:VEVENT
END:VCALENDAR