BEGIN:VCALENDAR
VERSION:2.0
CALSCALE:GREGORIAN
PRODID:-//MyApp//Calendar 1.0//EN
BEGIN:VEVENT
METHOD:PUBLISH
UID:64000@regionalniportaly.cz
DTSTAMP:20260421T235009Z
DTSTART;VALUE=DATE:20260310
DTEND;VALUE=DATE:20260311
SUMMARY:...řekl Malý princ
DESCRIPTION:Dílny porozumění pro žáky MŠ\, ZŠ i SŠdoprovodný program k výstavě Malý princ Elišky Podzimkové\nMalý princ je lékem na problémy v třídním kolektivu. Společně objevíme\, jaká poselství se v příběhu ukrývají a vybereme to\, které přinese porozumění\, pocit vzájemnosti a novou touhu dělat svět lepším místem pro život.\nUrčeno pro: všechny věkové kategorie\, program bude uzpůsoben věkové kategorii\nLektor: Mgr. Hana Švandelková\nČasová dotace: 45 minut + prohlídka výstavy 30 minut\nSoučástí programu bude prohlídka výstavy Malý princ Elišky Podzimkové
LOCATION:Kyjov
END:VEVENT
END:VCALENDAR