BEGIN:VCALENDAR
VERSION:2.0
CALSCALE:GREGORIAN
PRODID:-//MyApp//Calendar 1.0//EN
BEGIN:VEVENT
METHOD:PUBLISH
UID:64002@regionalniportaly.cz
DTSTAMP:20260421T234525Z
DTSTART;VALUE=DATE:20260421
DTEND;VALUE=DATE:20260422
SUMMARY:Poselství Malého prince
DESCRIPTION:Život se dá rozdělit na období před Malým princem a po něm. Natolik dokáže proměňovat! Nabízí cestu\, jak skoncovat s hledáním viny a přehodnotit své dosavadní postoje. Pochopíme nedorozumění\, která jsme v komunikaci s blízkými prožívali.Díky Malému princi se dokážeme snáze vyrovnat se ztrátou\, naučí nás vidět v překážkách příležitosti.\nSeminář se koná v rámci doprovodného programu výstavy Malý princ Elišky Podzimkové.
LOCATION:Kyjov
END:VEVENT
END:VCALENDAR