BEGIN:VCALENDAR
VERSION:2.0
CALSCALE:GREGORIAN
PRODID:-//MyApp//Calendar 1.0//EN
BEGIN:VEVENT
METHOD:PUBLISH
UID:64003@regionalniportaly.cz
DTSTAMP:20260421T235018Z
DTSTART;VALUE=DATE:20260320
DTEND;VALUE=DATE:20260404
SUMMARY:Velikonoční poklad v muzeu
DESCRIPTION:Dokážete najít v naší expozici všechna ztracená vajíčka? Každé vajíčko je označeno slovem\, po složení správného textu říkanky je odměna jistá!
LOCATION:Kyjov
END:VEVENT
END:VCALENDAR