BEGIN:VCALENDAR
VERSION:2.0
CALSCALE:GREGORIAN
PRODID:-//MyApp//Calendar 1.0//EN
BEGIN:VEVENT
METHOD:PUBLISH
UID:64004@regionalniportaly.cz
DTSTAMP:20260421T234605Z
DTSTART;VALUE=DATE:20260331
DTEND;VALUE=DATE:20260401
SUMMARY:Workshop - tvorba šperků z pryskyřice
DESCRIPTION:Tvůrčí dílna pro děti i dospělé\, během níž si účastníci vyrobí originální šperk z pryskyřice inspirovaný motivy planetek a symbolikou Malého prince. Vzhledem k omezenému počtu míst je předem nutné rezervovat místo a zakoupit vstupenky. Věkové omezení: není vhodné pro děti mladší 8 let.
LOCATION:Kyjov
END:VEVENT
END:VCALENDAR