BEGIN:VCALENDAR
VERSION:2.0
CALSCALE:GREGORIAN
PRODID:-//MyApp//Calendar 1.0//EN
BEGIN:VEVENT
METHOD:PUBLISH
UID:65616@regionalniportaly.cz
DTSTAMP:20260419T154634Z
DTSTART;VALUE=DATE:20260606
DTEND;VALUE=DATE:20260607
SUMMARY:Muzejní noc - Cesta za Malým princem
DESCRIPTION:Srdečně zveme návštěvníky Vlastivědného muzea Kyjov na Muzejní noc v sobotu 6. června 2026. Program muzejní noci se vhodně propojí s aktuální výstavou Malý princ Elišky Podzimkové. Součástí programu muzejní noci bude povídání s astronomem\, průběžné prohlídky výstavy i program pro děti. Muzejní noc bude doprovázet hudební vystoupení. Otevřena bude také stálá interaktivní expozice Museum Pictum v budově zámečku. Vstup na muzejní noc bude zdarma.
LOCATION:Kyjov
END:VEVENT
END:VCALENDAR