BEGIN:VCALENDAR
VERSION:2.0
CALSCALE:GREGORIAN
PRODID:-//MyApp//Calendar 1.0//EN
BEGIN:VEVENT
METHOD:PUBLISH
UID:65809@regionalniportaly.cz
DTSTAMP:20260424T141751Z
DTSTART;VALUE=DATE:20260530
DTEND;VALUE=DATE:20260531
SUMMARY:Den dětí s Karol a Kvído
DESCRIPTION:Obec Mutěnice Vás zve na den plný zábavy s Karol a Kvído
LOCATION:Mutěnice
END:VEVENT
END:VCALENDAR