BEGIN:VCALENDAR
VERSION:2.0
CALSCALE:GREGORIAN
PRODID:-//MyApp//Calendar 1.0//EN
BEGIN:VEVENT
METHOD:PUBLISH
UID:65845@regionalniportaly.cz
DTSTAMP:20260424T124414Z
DTSTART;VALUE=DATE:20261113
DTEND;VALUE=DATE:20261114
SUMMARY:Bzenecké sklepy při svíčkách
DESCRIPTION:Pojďte zažít nevšední putování za vínem a vinaři do bzeneckých sklípků\, které jsou osvíceny svícemi a lampami. 18 vinařství pro Vás bude&nbsp\;mít&nbsp\;k ochutnávce širokou nabídku od Svatomartinských a mladých\, přes ročníková až k perlivým vínům.&nbsp\;Těšit se můžete také na bohatou nabídku občerstvení – svatomartinskou husu\, zabíjačkové pochoutky\, škvarkovou pomazánku\, pagáčky\, speciality z&nbsp\;udírny a určitě v nabídce najdete i něco sladkého.&nbsp\;Kyvadlová doprava do vzdálenějších vinařství je zajištěna.
LOCATION:Bzenec
END:VEVENT
END:VCALENDAR