BEGIN:VCALENDAR
VERSION:2.0
CALSCALE:GREGORIAN
PRODID:-//MyApp//Calendar 1.0//EN
BEGIN:VEVENT
METHOD:PUBLISH
UID:65929@regionalniportaly.cz
DTSTAMP:20260425T231624Z
DTSTART;VALUE=DATE:20260502
DTEND;VALUE=DATE:20260503
SUMMARY:Festival vína a jídla
DESCRIPTION:
LOCATION:Bzenec
END:VEVENT
END:VCALENDAR