BEGIN:VCALENDAR
VERSION:2.0
CALSCALE:GREGORIAN
PRODID:-//MyApp//Calendar 1.0//EN
BEGIN:VEVENT
METHOD:PUBLISH
UID:65930@regionalniportaly.cz
DTSTAMP:20260425T231615Z
DTSTART;VALUE=DATE:20260506
DTEND;VALUE=DATE:20260507
SUMMARY:Farmářské trhy
DESCRIPTION:
LOCATION:Kyjov
END:VEVENT
END:VCALENDAR