BEGIN:VCALENDAR
VERSION:2.0
CALSCALE:GREGORIAN
PRODID:-//MyApp//Calendar 1.0//EN
BEGIN:VEVENT
METHOD:PUBLISH
UID:65932@regionalniportaly.cz
DTSTAMP:20260425T231323Z
DTSTART;VALUE=DATE:20260516
DTEND;VALUE=DATE:20260517
SUMMARY:Hamburger fest
DESCRIPTION:
LOCATION:Kyjov
END:VEVENT
END:VCALENDAR