BEGIN:VCALENDAR
VERSION:2.0
CALSCALE:GREGORIAN
PRODID:-//MyApp//Calendar 1.0//EN
BEGIN:VEVENT
METHOD:PUBLISH
UID:65933@regionalniportaly.cz
DTSTAMP:20260425T233552Z
DTSTART;VALUE=DATE:20260506
DTEND;VALUE=DATE:20260507
SUMMARY:DH Mistříňanka - Rodná naša Moravo
DESCRIPTION:
LOCATION:Kyjov
END:VEVENT
END:VCALENDAR