BEGIN:VCALENDAR
VERSION:2.0
CALSCALE:GREGORIAN
PRODID:-//MyApp//Calendar 1.0//EN
BEGIN:VEVENT
METHOD:PUBLISH
UID:65934@regionalniportaly.cz
DTSTAMP:20260426T011658Z
DTSTART;VALUE=DATE:20260519
DTEND;VALUE=DATE:20260520
SUMMARY:DH Boršičanka Antonína Koníčka
DESCRIPTION:
LOCATION:Kyjov
END:VEVENT
END:VCALENDAR