BEGIN:VCALENDAR
VERSION:2.0
CALSCALE:GREGORIAN
PRODID:-//MyApp//Calendar 1.0//EN
BEGIN:VEVENT
METHOD:PUBLISH
UID:65935@regionalniportaly.cz
DTSTAMP:20260426T005746Z
DTSTART;VALUE=DATE:20260520
DTEND;VALUE=DATE:20260521
SUMMARY:The Animals feat. John Steel
DESCRIPTION:
LOCATION:Kyjov
END:VEVENT
END:VCALENDAR