BEGIN:VCALENDAR
VERSION:2.0
CALSCALE:GREGORIAN
PRODID:-//MyApp//Calendar 1.0//EN
BEGIN:VEVENT
METHOD:PUBLISH
UID:65936@regionalniportaly.cz
DTSTAMP:20260426T005638Z
DTSTART;VALUE=DATE:20260618
DTEND;VALUE=DATE:20260621
SUMMARY:Bzenecký folklorní festival
DESCRIPTION:
LOCATION:Bzenec
END:VEVENT
END:VCALENDAR